BEGIN:VCALENDAR
VERSION:2.0
PRODID:-//Rolove Music - ECPv6.0.9//NONSGML v1.0//EN
CALSCALE:GREGORIAN
METHOD:PUBLISH
X-WR-CALNAME:Rolove Music
X-ORIGINAL-URL:https://rolovemusic.com
X-WR-CALDESC:Events for Rolove Music
REFRESH-INTERVAL;VALUE=DURATION:PT1H
X-Robots-Tag:noindex
X-PUBLISHED-TTL:PT1H
BEGIN:VTIMEZONE
TZID:UTC
BEGIN:STANDARD
TZOFFSETFROM:+0000
TZOFFSETTO:+0000
TZNAME:UTC
DTSTART:20210101T000000
END:STANDARD
END:VTIMEZONE
BEGIN:VEVENT
DTSTART;TZID=UTC:20210918T163000
DTEND;TZID=UTC:20210918T170000
DTSTAMP:20260420T020629
CREATED:20210901T110044Z
LAST-MODIFIED:20210902T091929Z
UID:403-1631982600-1631984400@rolovemusic.com
SUMMARY:Podcast Senja
DESCRIPTION:Podcast yang bertemakan dengan musik dalam kehidupan seseorang\, akan membahas berbagai macam sudut pandang tentang musik\, perjalanan hidup dalam musik\, bagaimana inspirasi musik itu tumbuh dalam kehidupan manusia. Alasan untuk tetap menyukai musik\, waktu waktu kejenuhan dalam bermusik dan banyak hal lain. Kali ini kami akan sharing dengan kak Shefa Khairunisa.
URL:https://rolovemusic.com/event/podcast-senja/
ATTACH;FMTTYPE=image/png:https://rolovemusic.com/wp-content/uploads/2021/09/Trisno-Mukti-wibowo-2-1.png
END:VEVENT
BEGIN:VEVENT
DTSTART;TZID=UTC:20210820T140000
DTEND;TZID=UTC:20210820T203000
DTSTAMP:20260420T020629
CREATED:20210721T020435Z
LAST-MODIFIED:20210815T051641Z
UID:229-1629468000-1629491400@rolovemusic.com
SUMMARY:Ferdi - Feel Inside
DESCRIPTION:Single Pertama dari Ferdi\, Launching pada tanggal 20 Agustus 2021 diseluruh platform digital
URL:https://rolovemusic.com/event/nighthawks-at-the-diner-tour/
CATEGORIES:tour
ATTACH;FMTTYPE=image/png:https://rolovemusic.com/wp-content/uploads/2021/07/Brown-and-White-Photo-Band-Concert-Ticket-e1626835521472.png
END:VEVENT
END:VCALENDAR