BEGIN:VCALENDAR
VERSION:2.0
PRODID:-//Rolove Music - ECPv6.0.9//NONSGML v1.0//EN
CALSCALE:GREGORIAN
METHOD:PUBLISH
X-WR-CALNAME:Rolove Music
X-ORIGINAL-URL:https://rolovemusic.com
X-WR-CALDESC:Events for Rolove Music
REFRESH-INTERVAL;VALUE=DURATION:PT1H
X-Robots-Tag:noindex
X-PUBLISHED-TTL:PT1H
BEGIN:VTIMEZONE
TZID:UTC
BEGIN:STANDARD
TZOFFSETFROM:+0000
TZOFFSETTO:+0000
TZNAME:UTC
DTSTART:20220101T000000
END:STANDARD
END:VTIMEZONE
BEGIN:VEVENT
DTSTART;TZID=UTC:20220722T080000
DTEND;TZID=UTC:20220722T170000
DTSTAMP:20260425T144124
CREATED:20220630T025341Z
LAST-MODIFIED:20220630T025342Z
UID:581-1658476800-1658509200@rolovemusic.com
SUMMARY:Ferdi - Sudah Ku Katakan
DESCRIPTION:Hallloo geesss ada yang baru nih dari artist kita\, Single Ke-Tiganya akan segera launching di seluruh digital platform kesukaan kalian. ditunggu yaaa. gassspoollll
URL:https://rolovemusic.com/event/ferdi-sudah-ku-katakan/
CATEGORIES:Release
ATTACH;FMTTYPE=image/png:https://rolovemusic.com/wp-content/uploads/2022/06/Ferdi-Sudah-Ku-Katakan-Artwork-Coming-Soon.png
END:VEVENT
END:VCALENDAR